BEGIN:VCALENDAR
VERSION:2.0
PRODID:-//hacksw/handcal//NONSGML v1.0//EN
BEGIN:VEVENT
UID:5743329e5acbbf4f4d2e0a225c0c7953
DTSTAMP:20260424T055219Z

DTSTART:20220826T180000
DTEND:20220828T210000
SUMMARY:Toronto Korean Festival
DESCRIPTION:The Toronto Korean Festival is the biggest Korean festival in Canada as well as the largest and most anticipated gathering in North York. Guests of all ages are welcome to enjoy food, performances, market vendors, and fun games! Join us at Mel Lastman Square August 26-28, 2022!

X-ALT-DESC;FMTTYPE=text/html:<!DOCTYPE HTML PUBLIC "-//W3C//DTD HTML 3.2//EN">\n<HTML>\n<HEAD>\n<META NAME="Generator" CONTENT="MS Exchange Server version 08.00.0681.000">\n<TITLE></TITLE>\n</HEAD>\n<BODY>\n<!-- Converted from text/rtf format -->\n\nThe Toronto Korean Festival is the biggest Korean festival in Canada as well as the largest and most anticipated gathering in North York. Guests of all ages are welcome to enjoy food, performances, market vendors, and fun games! Join us at Mel Lastman Square August 26-28, 2022!\n\n</BODY>\n</HTML>

LOCATION:5100 Yonge St, North York, ON M2N 5V7, Canada
END:VEVENT

END:VCALENDAR
