BEGIN:VCALENDAR
VERSION:2.0
PRODID:-//hacksw/handcal//NONSGML v1.0//EN
BEGIN:VEVENT
UID:3a7da797d0690781da7342af1344cc5d
DTSTAMP:20260420T182228Z

DTSTART:20220930T173000
DTEND:20221001T233000
SUMMARY:Toronto Oktoberfest
DESCRIPTION:Toronto Oktoberfest is the first Bavarian-styled Oktoberfest in Toronto.\n\nThe festival launched in 2012 with a mandate of providing a truly authentic Oktoberfest experience, similar to the spirit of Munich's famed festival.\n\nCurrently, the festival is a two day event which celebrates the food, drink, music and dance of Bavarian culture.\n\nWhat to expect:\n\nYoung and old, modern and traditional – it all blends harmoniously in a relaxed and welcoming atmosphere at Toronto’s Oktoberfest!\n\nThis two day festival takes place in a massive Festhalle tent and outdoor Bavarian Village\n\nFree German glass beer steins to the first 500 attendees per session\n\nBavarian communal tables and benches direct from Germany\n\nExclusive to Toronto Oktoberfest, ERDINGER’s Oktoberfest Brew is specially brewed for the fall season, blends the crisp flavor of ERDINGER Weiss with a traditionally full Oktoberfest brew\n\nFor tickets please visit: https://www.torontooktoberfest.ca/tickets

X-ALT-DESC;FMTTYPE=text/html:<!DOCTYPE HTML PUBLIC "-//W3C//DTD HTML 3.2//EN">\n<HTML>\n<HEAD>\n<META NAME="Generator" CONTENT="MS Exchange Server version 08.00.0681.000">\n<TITLE></TITLE>\n</HEAD>\n<BODY>\n<!-- Converted from text/rtf format -->\n\nToronto Oktoberfest is the first Bavarian-styled Oktoberfest in Toronto.<br /><br />The festival launched in 2012 with a mandate of providing a truly authentic Oktoberfest experience, similar to the spirit of Munich's famed festival.<br /><br />Currently, the festival is a two day event which celebrates the food, drink, music and dance of Bavarian culture.<br /><br />What to expect:<br /><br />Young and old, modern and traditional – it all blends harmoniously in a relaxed and welcoming atmosphere at Toronto’s Oktoberfest!<br /><br />This two day festival takes place in a massive Festhalle tent and outdoor Bavarian Village<br /><br />Free German glass beer steins to the first 500 attendees per session<br /><br />Bavarian communal tables and benches direct from Germany<br /><br />Exclusive to Toronto Oktoberfest, ERDINGER’s Oktoberfest Brew is specially brewed for the fall season, blends the crisp flavor of ERDINGER Weiss with a traditionally full Oktoberfest brew<br /><br />For tickets please visit: https://www.torontooktoberfest.ca/tickets\n\n</BODY>\n</HTML>

LOCATION:955 Lake Shore Blvd W, Toronto, ON M6K 3B9, Canada
END:VEVENT

END:VCALENDAR
