BEGIN:VCALENDAR
VERSION:2.0
PRODID:-//hacksw/handcal//NONSGML v1.0//EN
BEGIN:VEVENT
UID:413b70cfbc0458aa24387b38cc79e2ae
DTSTAMP:20260422T112754Z

DTSTART:20220911T100000
DTEND:20220911T170000
SUMMARY:The Leslieville Flea in Toronto, Ontario
DESCRIPTION:One of Toronto’s most popular curated markets, the Leslieville Flea Market was founded in 2013 by Brigid Elmy and Christine Roberts as a place for local artisans and collectors to showcase and sell their wares.  The Flea started in the parking lot of the Duke Tavern and now pops up at several different locations across the city throughout the year.  \n\nThe Leslieville Flea hosts an average of over 1,000 attendees, with the best vendors in the city selling vintage goods, furniture, clothing,  plus a wide variety of  jewellery, art, and other handcrafted goods.\n\nEach Leslieville Flea is an opportunity to meet the maker of the item and find out how it is made, or talk to the treasure hunters who look far and wide to bring each unique item and its special history to the market.\n\nThe Leslieville Flea is recognized as a vibrant community hub where friends and neighbours meet, grab a drink or bite to eat and support local & independent vendors.  \n\nWe look forward to seeing you shopping at one of our markets.  

X-ALT-DESC;FMTTYPE=text/html:<!DOCTYPE HTML PUBLIC "-//W3C//DTD HTML 3.2//EN">\n<HTML>\n<HEAD>\n<META NAME="Generator" CONTENT="MS Exchange Server version 08.00.0681.000">\n<TITLE></TITLE>\n</HEAD>\n<BODY>\n<!-- Converted from text/rtf format -->\n\nOne of Toronto’s most popular curated markets, the Leslieville Flea Market was founded in 2013 by Brigid Elmy and Christine Roberts as a place for local artisans and collectors to showcase and sell their wares.  The Flea started in the parking lot of the Duke Tavern and now pops up at several different locations across the city throughout the year.  <br /><br />The Leslieville Flea hosts an average of over 1,000 attendees, with the best vendors in the city selling vintage goods, furniture, clothing,  plus a wide variety of  jewellery, art, and other handcrafted goods.<br /><br />Each Leslieville Flea is an opportunity to meet the maker of the item and find out how it is made, or talk to the treasure hunters who look far and wide to bring each unique item and its special history to the market.<br /><br />The Leslieville Flea is recognized as a vibrant community hub where friends and neighbours meet, grab a drink or bite to eat and support local & independent vendors.  <br /><br />We look forward to seeing you shopping at one of our markets.  \n\n</BODY>\n</HTML>

LOCATION:1444 Queen St E, Toronto, ON M4L 1E1, Canada
END:VEVENT

END:VCALENDAR
