BEGIN:VCALENDAR
VERSION:2.0
PRODID:-//hacksw/handcal//NONSGML v1.0//EN
BEGIN:VEVENT
UID:9e287ade1904adfd6712a03647c3cdba
DTSTAMP:20260424T192957Z

DTSTART:20220708T180000
DTEND:20220710T200000
SUMMARY:Afrofest
DESCRIPTION:AFROFEST is the largest free African Music Festival in North America.Through our programming over the years, AFROFEST has become one of the most important African cultural events in Canada as we present numerous multinational artists and initiatives which aim showcasing the diverse and beautiful nature of various cultures in Africa.This year, Afrofest will celebrate its 34th year of festivities. As the largest FREE African festival in North America, the traditionally 2-day festival will now take place over the course of 3 days. Key points about AFROFEST 2022:\nCelebrating its 34th year\nThis is the first time we will present a 3-day festival at Woodbine Park.\nLargest free African festival in N. America with over 45 performances.\nProgramming Philosophy: Genres of music that showcase African, Diaspora, and Black culture (Afrobeat, Afropop, Soukous, Makossa, Rai, Reggae, Rumba, etc.)\nLineup focuses on local artists but also includes international artists.

X-ALT-DESC;FMTTYPE=text/html:<!DOCTYPE HTML PUBLIC "-//W3C//DTD HTML 3.2//EN">\n<HTML>\n<HEAD>\n<META NAME="Generator" CONTENT="MS Exchange Server version 08.00.0681.000">\n<TITLE></TITLE>\n</HEAD>\n<BODY>\n<!-- Converted from text/rtf format -->\n\nAFROFEST is the largest free African Music Festival in North America.Through our programming over the years, AFROFEST has become one of the most important African cultural events in Canada as we present numerous multinational artists and initiatives which aim showcasing the diverse and beautiful nature of various cultures in Africa.This year, Afrofest will celebrate its 34th year of festivities. As the largest FREE African festival in North America, the traditionally 2-day festival will now take place over the course of 3 days. Key points about AFROFEST 2022:<br />Celebrating its 34th year<br />This is the first time we will present a 3-day festival at Woodbine Park.<br />Largest free African festival in N. America with over 45 performances.<br />Programming Philosophy: Genres of music that showcase African, Diaspora, and Black culture (Afrobeat, Afropop, Soukous, Makossa, Rai, Reggae, Rumba, etc.)<br />Lineup focuses on local artists but also includes international artists.\n\n</BODY>\n</HTML>

LOCATION:1695 Queen St E, Toronto, ON M4L 1G7, Canada
END:VEVENT

END:VCALENDAR
