BEGIN:VCALENDAR
VERSION:2.0
PRODID:-//hacksw/handcal//NONSGML v1.0//EN
BEGIN:VEVENT
UID:8035c2e3a0eaec89009355b2281b230d
DTSTAMP:20260420T130726Z

DTSTART:20220920T163000
DTEND:20220920T193000
SUMMARY:ARAS - Ardrossan Farmers' Market 2022 - 20.09.2022
DESCRIPTION:The ARAS - Ardrossan Farmers' Market runs Tuesdays from 4:30-7:30pm from June to September.\n\nWith an awesome Market Bucks Program, and our brand new Market Buds program for children, you'll want to check us out weekly!\n\nWe have 37 vendors in attendance and you're sure to find some great items and yummy treats to bring home with you!\n\nCome on out!

X-ALT-DESC;FMTTYPE=text/html:<!DOCTYPE HTML PUBLIC "-//W3C//DTD HTML 3.2//EN">\n<HTML>\n<HEAD>\n<META NAME="Generator" CONTENT="MS Exchange Server version 08.00.0681.000">\n<TITLE></TITLE>\n</HEAD>\n<BODY>\n<!-- Converted from text/rtf format -->\n\nThe ARAS - Ardrossan Farmers' Market runs Tuesdays from 4:30-7:30pm from June to September.<br /><br />With an awesome Market Bucks Program, and our brand new Market Buds program for children, you'll want to check us out weekly!<br /><br />We have 37 vendors in attendance and you're sure to find some great items and yummy treats to bring home with you!<br /><br />Come on out!\n\n</BODY>\n</HTML>

LOCATION:60 First Ave, Ardrossan, AB T8E 2A2, Canada
END:VEVENT

END:VCALENDAR
