BEGIN:VCALENDAR
VERSION:2.0
PRODID:-//hacksw/handcal//NONSGML v1.0//EN
BEGIN:VEVENT
UID:a7d178815a42781202ec16fc93b4b56f
DTSTAMP:20260423T125509Z

DTSTART:20220626T140000
DTEND:20220626T140000
SUMMARY:Toronto Pride Parade
DESCRIPTION:Toronto's Pride Parade is about celebrating diversity and creating an inclusive experience for all. This year watch the 200+ contingents and over 200,000 marchers for the 2022 Pride Parade as it returns to in-person. \nJoin us for our 41st commemoration in person! Starting at Bloor and Church St., the parade will head west then turn south on Yonge St ending at Yonge Dundas Square. The parade is sure to be high-energy and fun for all.

X-ALT-DESC;FMTTYPE=text/html:<!DOCTYPE HTML PUBLIC "-//W3C//DTD HTML 3.2//EN">\n<HTML>\n<HEAD>\n<META NAME="Generator" CONTENT="MS Exchange Server version 08.00.0681.000">\n<TITLE></TITLE>\n</HEAD>\n<BODY>\n<!-- Converted from text/rtf format -->\n\nToronto's Pride Parade is about celebrating diversity and creating an inclusive experience for all. This year watch the 200+ contingents and over 200,000 marchers for the 2022 Pride Parade as it returns to in-person. <br />Join us for our 41st commemoration in person! Starting at Bloor and Church St., the parade will head west then turn south on Yonge St ending at Yonge Dundas Square. The parade is sure to be high-energy and fun for all.\n\n</BODY>\n</HTML>

LOCATION:Church St & Bloor St E, Toronto, ON M4W 1B7, Canada
END:VEVENT

END:VCALENDAR
